BEGIN:VCALENDAR
VERSION:2.0
PRODID:-//Triad Deaf Services - ECPv6.7.0//NONSGML v1.0//EN
CALSCALE:GREGORIAN
METHOD:PUBLISH
X-WR-CALNAME:Triad Deaf Services
X-ORIGINAL-URL:https://triadds.org
X-WR-CALDESC:Events for Triad Deaf Services
REFRESH-INTERVAL;VALUE=DURATION:PT1H
X-Robots-Tag:noindex
X-PUBLISHED-TTL:PT1H
BEGIN:VTIMEZONE
TZID:America/New_York
BEGIN:DAYLIGHT
TZOFFSETFROM:-0500
TZOFFSETTO:-0400
TZNAME:EDT
DTSTART:20240310T070000
END:DAYLIGHT
BEGIN:STANDARD
TZOFFSETFROM:-0400
TZOFFSETTO:-0500
TZNAME:EST
DTSTART:20241103T060000
END:STANDARD
END:VTIMEZONE
BEGIN:VEVENT
DTSTART;TZID=America/New_York:20240824T140000
DTEND;TZID=America/New_York:20240824T190000
DTSTAMP:20260422T200941
CREATED:20240817T150046Z
LAST-MODIFIED:20240817T150046Z
UID:1353-1724508000-1724526000@triadds.org
SUMMARY:End of Summer Picnic
DESCRIPTION:Join the fun! We will have burgers\, hotdogs and more. \nBring your cornhole\, card or board games and a side dish! \nAdmission is $10/adult and $5/child. \nQuestions? Contact Casey Ring (cring@triadds.org) or Alison (alimarie0403@gmail.com)
URL:https://triadds.org/event1/end-of-summer-picnic/
LOCATION:Fitzpatrick Shelter (Price Park)\, 1000 W Maple St\, North Canton\, OH\, 44720\, United States
ATTACH;FMTTYPE=image/jpeg:https://triadds.org/wp-content/uploads/2024/08/Deaf-Picnic-2.jpg
END:VEVENT
END:VCALENDAR