BEGIN:VCALENDAR
VERSION:2.0
PRODID:-//Triad Deaf Services - ECPv6.7.0//NONSGML v1.0//EN
CALSCALE:GREGORIAN
METHOD:PUBLISH
X-ORIGINAL-URL:https://triadds.org
X-WR-CALDESC:Events for Triad Deaf Services
REFRESH-INTERVAL;VALUE=DURATION:PT1H
X-Robots-Tag:noindex
X-PUBLISHED-TTL:PT1H
BEGIN:VTIMEZONE
TZID:America/New_York
BEGIN:DAYLIGHT
TZOFFSETFROM:-0500
TZOFFSETTO:-0400
TZNAME:EDT
DTSTART:20240310T070000
END:DAYLIGHT
BEGIN:STANDARD
TZOFFSETFROM:-0400
TZOFFSETTO:-0500
TZNAME:EST
DTSTART:20241103T060000
END:STANDARD
END:VTIMEZONE
BEGIN:VEVENT
DTSTART;TZID=America/New_York:20241112T110000
DTEND;TZID=America/New_York:20241112T130000
DTSTAMP:20260421T055604
CREATED:20241007T164451Z
LAST-MODIFIED:20241007T175246Z
UID:2194-1731409200-1731416400@triadds.org
SUMMARY:Tuscarawas County (Newcomerstown) Deaf Advocate Walk In Service
DESCRIPTION:TRIAD Deaf Services: Monthly Walk-In Appointments \nWe are here to assist the Deaf\, Deaf-Blind\, and Hard of Hearing communities in Tuscarawas\, Stark\, and Carroll counties. Our monthly walk-in appointments offer personalized support and resources to address your needs. \nHow We Can Help: \n\nTranslation of mail and important documents\nAssistance with Social Security issues\nHelp with medical concerns\nGuidance in finding the right resources for any challenges you’re facing\n\nDuring these walk-in hours\, our Community Outreach/Education Specialist will be available to meet with you one-on-one to provide the assistance you need. \n\nBefore You Arrive: \nTo help us serve you better\, please text our Community Advocate line at (330) 323-8994 before your visit. This will allow our advocate to prepare and research the best solutions and resources for your specific situation. \n\nWe look forward to helping you!
URL:https://triadds.org/event1/tuscarawas-county-newcomerstown-deaf-advocate-walk-in-service-2/
LOCATION:Newcomerstown Library\, 123 E. Main St\, Newcomerstown\, OH\, 43832\, United States
CATEGORIES:Deaf Advocacy
ATTACH;FMTTYPE=image/png:https://triadds.org/wp-content/uploads/2024/09/Advocacy-Header.png
END:VEVENT
END:VCALENDAR