BEGIN:VCALENDAR
VERSION:2.0
PRODID:-//Triad Deaf Services - ECPv6.7.0//NONSGML v1.0//EN
CALSCALE:GREGORIAN
METHOD:PUBLISH
X-WR-CALNAME:Triad Deaf Services
X-ORIGINAL-URL:https://triadds.org
X-WR-CALDESC:Events for Triad Deaf Services
REFRESH-INTERVAL;VALUE=DURATION:PT1H
X-Robots-Tag:noindex
X-PUBLISHED-TTL:PT1H
BEGIN:VTIMEZONE
TZID:America/New_York
BEGIN:DAYLIGHT
TZOFFSETFROM:-0500
TZOFFSETTO:-0400
TZNAME:EDT
DTSTART:20250309T070000
END:DAYLIGHT
BEGIN:STANDARD
TZOFFSETFROM:-0400
TZOFFSETTO:-0500
TZNAME:EST
DTSTART:20251102T060000
END:STANDARD
END:VTIMEZONE
BEGIN:VEVENT
DTSTART;TZID=America/New_York:20250701T110000
DTEND;TZID=America/New_York:20250701T130000
DTSTAMP:20260421T190425
CREATED:20241007T135701Z
LAST-MODIFIED:20241007T181956Z
UID:2131-1751367600-1751374800@triadds.org
SUMMARY:Stark County (Canton) Deaf Advocate Walk-In Service
DESCRIPTION:TRIAD Deaf Services: Monthly Walk-In Appointments \nWe are here to assist the Deaf\, Deaf-Blind\, and Hard of Hearing communities in Tuscarawas\, Stark\, and Carroll counties. Our monthly walk-in appointments offer personalized support and resources to address your needs. \nHow We Can Help: \n\nTranslation of mail and important documents\nAssistance with Social Security issues\nHelp with medical concerns\nGuidance in finding the right resources for any challenges you’re facing\n\nDuring these walk-in hours\, our Community Outreach/Education Specialist will be available to meet with you one-on-one to provide the assistance you need. \n\nBefore You Arrive: \nTo help us serve you better\, please text our Community Advocate line at (330) 323-8994 before your visit. This will allow our advocate to prepare and research the best solutions and resources for your specific situation. \n\nWe look forward to helping you!
URL:https://triadds.org/event1/stark-county-deaf-advocate-walk-in-service-10/
LOCATION:Stark Main Library\, 715 Market Ave. N\, Canton\, 44702\, United States
CATEGORIES:Deaf Advocacy
ATTACH;FMTTYPE=image/png:https://triadds.org/wp-content/uploads/2024/09/Advocacy-Header.png
END:VEVENT
BEGIN:VEVENT
DTSTART;TZID=America/New_York:20250702T110000
DTEND;TZID=America/New_York:20250702T130000
DTSTAMP:20260421T190425
CREATED:20241007T135046Z
LAST-MODIFIED:20241007T181956Z
UID:2112-1751454000-1751461200@triadds.org
SUMMARY:Tuscarawas County (New Philadelphia) Deaf Advocate Walk In Service
DESCRIPTION:TRIAD Deaf Services: Monthly Walk-In Appointments \nWe are here to assist the Deaf\, Deaf-Blind\, and Hard of Hearing communities in Tuscarawas\, Stark\, and Carroll counties. Our monthly walk-in appointments offer personalized support and resources to address your needs. \nHow We Can Help: \n\nTranslation of mail and important documents\nAssistance with Social Security issues\nHelp with medical concerns\nGuidance in finding the right resources for any challenges you’re facing\n\nDuring these walk-in hours\, our Community Outreach/Education Specialist will be available to meet with you one-on-one to provide the assistance you need. \n\nBefore You Arrive: \nTo help us serve you better\, please text our Community Advocate line at (330) 323-8994 before your visit. This will allow our advocate to prepare and research the best solutions and resources for your specific situation. \n\nWe look forward to helping you!
URL:https://triadds.org/event1/tuscarawas-county-deaf-advocate-walk-in-service-9/
LOCATION:Tuscarawas Public Library in New Philadelphia\, 121 Fair Ave. NW\, New Philadelphia\, OH\, 44663\, United States
CATEGORIES:Deaf Advocacy
ATTACH;FMTTYPE=image/png:https://triadds.org/wp-content/uploads/2024/09/Advocacy-Header.png
END:VEVENT
BEGIN:VEVENT
DTSTART;TZID=America/New_York:20250703T110000
DTEND;TZID=America/New_York:20250703T130000
DTSTAMP:20260421T190425
CREATED:20241007T140803Z
LAST-MODIFIED:20241007T181956Z
UID:2161-1751540400-1751547600@triadds.org
SUMMARY:Carroll County (Carrollton) Deaf Advocate Walk-In Service
DESCRIPTION:TRIAD Deaf Services: Monthly Walk-In Appointments \nWe are here to assist the Deaf\, Deaf-Blind\, and Hard of Hearing communities in Tuscarawas\, Stark\, and Carroll counties. Our monthly walk-in appointments offer personalized support and resources to address your needs. \nHow We Can Help: \n\nTranslation of mail and important documents\nAssistance with Social Security issues\nHelp with medical concerns\nGuidance in finding the right resources for any challenges you’re facing\n\nDuring these walk-in hours\, our Community Outreach/Education Specialist will be available to meet with you one-on-one to provide the assistance you need. \n\nBefore You Arrive: \nTo help us serve you better\, please text our Community Advocate line at (330) 323-8994 before your visit. This will allow our advocate to prepare and research the best solutions and resources for your specific situation. \n\nWe look forward to helping you!
URL:https://triadds.org/event1/carroll-county-deaf-advocate-walk-in-service-2/
LOCATION:Carrolton Coffee Company\, 3282 Canton Rd NW\, Carrollton\, OH\, 44615 \, United States
CATEGORIES:Deaf Advocacy
ATTACH;FMTTYPE=image/png:https://triadds.org/wp-content/uploads/2024/09/Advocacy-Header.png
END:VEVENT
BEGIN:VEVENT
DTSTART;TZID=America/New_York:20250710T110000
DTEND;TZID=America/New_York:20250710T130000
DTSTAMP:20260421T190425
CREATED:20241007T141546Z
LAST-MODIFIED:20241007T181956Z
UID:2185-1752145200-1752152400@triadds.org
SUMMARY:Stark County (Louisville) Deaf Advocate Walk In Service
DESCRIPTION:TRIAD Deaf Services: Monthly Walk-In Appointments \nWe are here to assist the Deaf\, Deaf-Blind\, and Hard of Hearing communities in Tuscarawas\, Stark\, and Carroll counties. Our monthly walk-in appointments offer personalized support and resources to address your needs. \nHow We Can Help: \n\nTranslation of mail and important documents\nAssistance with Social Security issues\nHelp with medical concerns\nGuidance in finding the right resources for any challenges you’re facing\n\nDuring these walk-in hours\, our Community Outreach/Education Specialist will be available to meet with you one-on-one to provide the assistance you need. \n\nBefore You Arrive: \nTo help us serve you better\, please text our Community Advocate line at (330) 323-8994 before your visit. This will allow our advocate to prepare and research the best solutions and resources for your specific situation. \n\nWe look forward to helping you!
URL:https://triadds.org/event1/stark-county-louisville-deaf-advocate-walk-in-service-11/
LOCATION:Uptown Joe’s\, 117 E Main St.\, Louisville\, OH\, 44641\, United States
CATEGORIES:Deaf Advocacy
ATTACH;FMTTYPE=image/png:https://triadds.org/wp-content/uploads/2024/09/Advocacy-Header.png
END:VEVENT
BEGIN:VEVENT
DTSTART;TZID=America/New_York:20250717T080000
DTEND;TZID=America/New_York:20250717T170000
DTSTAMP:20260421T190425
CREATED:20241007T171644Z
LAST-MODIFIED:20241007T181956Z
UID:2313-1752739200-1752771600@triadds.org
SUMMARY:Tuscarawas County (Dover) Deaf Advocate Walk In Service
DESCRIPTION:TRIAD Deaf Services: Monthly Walk-In Appointments \nWe are here to assist the Deaf\, Deaf-Blind\, and Hard of Hearing communities in Tuscarawas\, Stark\, and Carroll counties. Our monthly walk-in appointments offer personalized support and resources to address your needs. \nHow We Can Help: \n\nTranslation of mail and important documents\nAssistance with Social Security issues\nHelp with medical concerns\nGuidance in finding the right resources for any challenges you’re facing\n\nDuring these walk-in hours\, our Community Outreach/Education Specialist will be available to meet with you one-on-one to provide the assistance you need. \n\nBefore You Arrive: \nTo help us serve you better\, please text our Community Advocate line at (330) 323-8994 before your visit. This will allow our advocate to prepare and research the best solutions and resources for your specific situation. \n\nWe look forward to helping you!
URL:https://triadds.org/event1/tuscarawas-county-dover-deaf-advocate-walk-in-service-10/
LOCATION:Dover Public Library\, 525 Walnut St.\, Dover\, OH\, 44622\, United States
CATEGORIES:Deaf Advocacy
ATTACH;FMTTYPE=image/png:https://triadds.org/wp-content/uploads/2024/09/Advocacy-Header.png
END:VEVENT
BEGIN:VEVENT
DTSTART;TZID=America/New_York:20250722T080000
DTEND;TZID=America/New_York:20250722T170000
DTSTAMP:20260421T190425
CREATED:20241007T170148Z
LAST-MODIFIED:20241007T181956Z
UID:2262-1753171200-1753203600@triadds.org
SUMMARY:Stark County (Massillon) Deaf Advocate Walk In Service
DESCRIPTION:TRIAD Deaf Services: Monthly Walk-In Appointments \nWe are here to assist the Deaf\, Deaf-Blind\, and Hard of Hearing communities in Tuscarawas\, Stark\, and Carroll counties. Our monthly walk-in appointments offer personalized support and resources to address your needs. \nHow We Can Help: \n\nTranslation of mail and important documents\nAssistance with Social Security issues\nHelp with medical concerns\nGuidance in finding the right resources for any challenges you’re facing\n\nDuring these walk-in hours\, our Community Outreach/Education Specialist will be available to meet with you one-on-one to provide the assistance you need. \n\nBefore You Arrive: \nTo help us serve you better\, please text our Community Advocate line at (330) 323-8994 before your visit. This will allow our advocate to prepare and research the best solutions and resources for your specific situation. \n\nWe look forward to helping you!
URL:https://triadds.org/event1/stark-county-massillon-deaf-advocate-walk-in-service-10/
LOCATION:Massillon Public Library\, 208 Lincoln Way E\, Massillon\, OH\, 44646\, United States
CATEGORIES:Deaf Advocacy
ATTACH;FMTTYPE=image/png:https://triadds.org/wp-content/uploads/2024/09/Advocacy-Header.png
END:VEVENT
BEGIN:VEVENT
DTSTART;TZID=America/New_York:20250723T110000
DTEND;TZID=America/New_York:20250723T130000
DTSTAMP:20260421T190425
CREATED:20241007T171003Z
LAST-MODIFIED:20241007T181956Z
UID:2288-1753268400-1753275600@triadds.org
SUMMARY:Stark County (Alliance) Deaf Advocate Walk In Service
DESCRIPTION:TRIAD Deaf Services: Monthly Walk-In Appointments \nWe are here to assist the Deaf\, Deaf-Blind\, and Hard of Hearing communities in Tuscarawas\, Stark\, and Carroll counties. Our monthly walk-in appointments offer personalized support and resources to address your needs. \nHow We Can Help: \n\nTranslation of mail and important documents\nAssistance with Social Security issues\nHelp with medical concerns\nGuidance in finding the right resources for any challenges you’re facing\n\nDuring these walk-in hours\, our Community Outreach/Education Specialist will be available to meet with you one-on-one to provide the assistance you need. \n\nBefore You Arrive: \nTo help us serve you better\, please text our Community Advocate line at (330) 323-8994 before your visit. This will allow our advocate to prepare and research the best solutions and resources for your specific situation. \n\nWe look forward to helping you!
URL:https://triadds.org/event1/stark-county-alliance-deaf-advocate-walk-in-service-10/
LOCATION:Rodman Public Library\, 215 E Broadway St.\, Alliance\, OH\, 44601\, United States
CATEGORIES:Deaf Advocacy
ATTACH;FMTTYPE=image/png:https://triadds.org/wp-content/uploads/2024/09/Advocacy-Header.png
END:VEVENT
END:VCALENDAR