BEGIN:VCALENDAR
VERSION:2.0
PRODID:-//Triad Deaf Services - ECPv6.7.0//NONSGML v1.0//EN
CALSCALE:GREGORIAN
METHOD:PUBLISH
X-ORIGINAL-URL:https://triadds.org
X-WR-CALDESC:Events for Triad Deaf Services
REFRESH-INTERVAL;VALUE=DURATION:PT1H
X-Robots-Tag:noindex
X-PUBLISHED-TTL:PT1H
BEGIN:VTIMEZONE
TZID:America/New_York
BEGIN:DAYLIGHT
TZOFFSETFROM:-0500
TZOFFSETTO:-0400
TZNAME:EDT
DTSTART:20240310T070000
END:DAYLIGHT
BEGIN:STANDARD
TZOFFSETFROM:-0400
TZOFFSETTO:-0500
TZNAME:EST
DTSTART:20241103T060000
END:STANDARD
END:VTIMEZONE
BEGIN:VEVENT
DTSTART;TZID=America/New_York:20241207T100000
DTEND;TZID=America/New_York:20241207T130000
DTSTAMP:20260424T110745
CREATED:20240817T151509Z
LAST-MODIFIED:20240817T151509Z
UID:1357-1733565600-1733576400@triadds.org
SUMMARY:Deaf Youth Christmas Party
DESCRIPTION:Join us for our Deaf Youth Christmas Party. \nAll children\, deaf/hard-of-hearing\, CODA\, signing and non-signing kids welcome! \nFeaturing: Deaf Santa Claus\, crafts\, games\, prizes\, entertainment in ASL by arts academy at Summit. \nGifts for Deaf\, HIH\, DeafBlind children. \nIncludes: Pizza\, cookies\, chips and drinks. \nSpread the Joy! \nUse the below QR code to register: \n \nPlease contact Alison Clark @ aclark@triadds.org or VP at 330-639-0255 with questions or to get help registering.
URL:https://triadds.org/event1/deaf-youth-christmas-party/
LOCATION:Hoover High School\, 525 7th St NE\, North Canton\, OH\, 44720\, United States
ATTACH;FMTTYPE=image/jpeg:https://triadds.org/wp-content/uploads/2024/08/Deaf-Youth-xmas.jpg
END:VEVENT
END:VCALENDAR