BEGIN:VCALENDAR
VERSION:2.0
PRODID:-//Triad Deaf Services - ECPv6.7.0//NONSGML v1.0//EN
CALSCALE:GREGORIAN
METHOD:PUBLISH
X-WR-CALNAME:Triad Deaf Services
X-ORIGINAL-URL:https://triadds.org
X-WR-CALDESC:Events for Triad Deaf Services
REFRESH-INTERVAL;VALUE=DURATION:PT1H
X-Robots-Tag:noindex
X-PUBLISHED-TTL:PT1H
BEGIN:VTIMEZONE
TZID:America/New_York
BEGIN:DAYLIGHT
TZOFFSETFROM:-0500
TZOFFSETTO:-0400
TZNAME:EDT
DTSTART:20240310T070000
END:DAYLIGHT
BEGIN:STANDARD
TZOFFSETFROM:-0400
TZOFFSETTO:-0500
TZNAME:EST
DTSTART:20241103T060000
END:STANDARD
END:VTIMEZONE
BEGIN:VEVENT
DTSTART;TZID=America/New_York:20241011T200000
DTEND;TZID=America/New_York:20241011T220000
DTSTAMP:20260421T065544
CREATED:20241003T175424Z
LAST-MODIFIED:20241007T174610Z
UID:2041-1728676800-1728684000@triadds.org
SUMMARY:Deaf Night at Haunted House
DESCRIPTION:
URL:https://triadds.org/event1/deaf-night-at-haunted-house/
LOCATION:Factory of Terror\, 4125 Mahoning Road. NE\, Canton\, OH\, 44705\, United States
CATEGORIES:Deaf Community Event
ATTACH;FMTTYPE=image/jpeg:https://triadds.org/wp-content/uploads/2024/10/October-11th.jpg
END:VEVENT
END:VCALENDAR