BEGIN:VCALENDAR
VERSION:2.0
PRODID:-//Triad Deaf Services - ECPv6.7.0//NONSGML v1.0//EN
CALSCALE:GREGORIAN
METHOD:PUBLISH
X-WR-CALNAME:Triad Deaf Services
X-ORIGINAL-URL:https://triadds.org
X-WR-CALDESC:Events for Triad Deaf Services
REFRESH-INTERVAL;VALUE=DURATION:PT1H
X-Robots-Tag:noindex
X-PUBLISHED-TTL:PT1H
BEGIN:VTIMEZONE
TZID:America/New_York
BEGIN:DAYLIGHT
TZOFFSETFROM:-0500
TZOFFSETTO:-0400
TZNAME:EDT
DTSTART:20240310T070000
END:DAYLIGHT
BEGIN:STANDARD
TZOFFSETFROM:-0400
TZOFFSETTO:-0500
TZNAME:EST
DTSTART:20241103T060000
END:STANDARD
END:VTIMEZONE
BEGIN:VEVENT
DTSTART;TZID=America/New_York:20240911T173000
DTEND;TZID=America/New_York:20240911T190000
DTSTAMP:20260424T151246
CREATED:20240827T170846Z
LAST-MODIFIED:20240827T171556Z
UID:2003-1726075800-1726081200@triadds.org
SUMMARY:ASL1 Class - 8 week class
DESCRIPTION:Join us for an 8-week American Sign Language (ASL) Level 1 course designed for children (16+ years) and adults. Whether you’re looking to communicate with Deaf friends and family members\, or simply want to learn a new language\, this class is for you! \nClick Here To Sign Up!
URL:https://triadds.org/event1/asl1-class-8-week-class/
LOCATION:ACME Community Room in Green\, 3875 Massillon Road\, Uniontown\, OH\, 44685\, United States
ATTACH;FMTTYPE=image/jpeg:https://triadds.org/wp-content/uploads/2024/08/Calendar-Headers.jpg
END:VEVENT
END:VCALENDAR